BEGIN:VCALENDAR
VERSION:2.0
PRODID:-//Green Hill Park Equestrian Center - ECPv6.15.20//NONSGML v1.0//EN
CALSCALE:GREGORIAN
METHOD:PUBLISH
X-WR-CALNAME:Green Hill Park Equestrian Center
X-ORIGINAL-URL:https://ghpec.org
X-WR-CALDESC:Events for Green Hill Park Equestrian Center
REFRESH-INTERVAL;VALUE=DURATION:PT1H
X-Robots-Tag:noindex
X-PUBLISHED-TTL:PT1H
BEGIN:VTIMEZONE
TZID:UTC
BEGIN:STANDARD
TZOFFSETFROM:+0000
TZOFFSETTO:+0000
TZNAME:UTC
DTSTART:20230101T000000
END:STANDARD
END:VTIMEZONE
BEGIN:VEVENT
DTSTART;TZID=UTC:20250614T080000
DTEND;TZID=UTC:20250614T170000
DTSTAMP:20260420T081612
CREATED:20251208T104338Z
LAST-MODIFIED:20251208T104338Z
UID:786-1749888000-1749920400@ghpec.org
SUMMARY:BREA combined test and dressage
DESCRIPTION:
URL:https://ghpec.org/event/brea-combined-test-and-dressage/
END:VEVENT
BEGIN:VEVENT
DTSTART;VALUE=DATE:20250614
DTEND;VALUE=DATE:20250615
DTSTAMP:20260420T081612
CREATED:20241207T123847Z
LAST-MODIFIED:20250610T083929Z
UID:676-1749859200-1749945599@ghpec.org
SUMMARY:Star City Horse Show (SWVHJA)
DESCRIPTION:Star City Horse Show I June 2025.docx-3
URL:https://ghpec.org/event/star-city-horse-show-swvhja/
LOCATION:Green Hill Park Equestrian Center
ATTACH;FMTTYPE=image/png:https://ghpec.org/wp-content/uploads/2024/12/swvhja.png
END:VEVENT
BEGIN:VEVENT
DTSTART;VALUE=DATE:20250601
DTEND;VALUE=DATE:20250602
DTSTAMP:20260420T081612
CREATED:20241126T132637Z
LAST-MODIFIED:20250520T092630Z
UID:647-1748736000-1748822399@ghpec.org
SUMMARY:SWVADA/Pony Club Dressage Rally\, Dressage and Working Equitation
DESCRIPTION:The prize list and entry form are here! \nJune Show Entry \nPrizelist June 2025
URL:https://ghpec.org/event/swvada-pony-club-dressage-rally-dressage-and-working-equitation/
LOCATION:Green Hill Park Equestrian Center
ATTACH;FMTTYPE=image/jpeg:https://ghpec.org/wp-content/uploads/2024/11/ponyclub.jpg
END:VEVENT
BEGIN:VEVENT
DTSTART;VALUE=DATE:20250517
DTEND;VALUE=DATE:20250518
DTSTAMP:20260420T081612
CREATED:20241126T132435Z
LAST-MODIFIED:20241126T132435Z
UID:642-1747440000-1747526399@ghpec.org
SUMMARY:4-H Qualifying Show
DESCRIPTION:Details coming soon!
URL:https://ghpec.org/event/4-h-qualifying-show/
LOCATION:Green Hill Park Equestrian Center
ATTACH;FMTTYPE=image/jpeg:https://ghpec.org/wp-content/uploads/2024/11/4Hlogo.jpg
END:VEVENT
BEGIN:VEVENT
DTSTART;VALUE=DATE:20250504
DTEND;VALUE=DATE:20250505
DTSTAMP:20260420T081612
CREATED:20241126T132217Z
LAST-MODIFIED:20250313T141431Z
UID:640-1746316800-1746403199@ghpec.org
SUMMARY:BREA/SWVADA Dressage\, Combined Test\, and Horse Trials
DESCRIPTION:BREA_SWVADA Prizelist May 2025 \n\nDivisions: Horse Trials\, Combined Tests\, Dressage\nHT Levels: Tadpole\, Cross Rails\, Green\, Advanced Green\, Beginner Novice\, Novice\nCT Levels: Tadpole\, Cross Rails\, Green\, Advanced Green\, Beginner Novice\, Novice\, Novice Plus\, Training\nDressage Tests: Intro Test C\, Beginner Novice Test A\, Novice Test A\, Training Test A\, Modified Test A\, Preliminary Test A\, 2023 USDF Intro to Second Level\, 2022 USEF Eventing Tests to Preliminary\, 2022 Western Dressage\, Western Dressage\, Working Equitation Level 1-7\, 2022 USDF Introductory
URL:https://ghpec.org/event/brea-swvada-dressage-combined-test-and-horse-trials/
LOCATION:Green Hill Park Equestrian Center
ATTACH;FMTTYPE=image/png:https://ghpec.org/wp-content/uploads/2024/10/Blue-Ridge-Eventing-Association_logo_clear-web.png
ORGANIZER;CN="Blue Ridge Eventing Association":MAILTO:BREABoard@gmail.com
END:VEVENT
BEGIN:VEVENT
DTSTART;VALUE=DATE:20250426
DTEND;VALUE=DATE:20250427
DTSTAMP:20260420T081612
CREATED:20251202T192030Z
LAST-MODIFIED:20251202T192030Z
UID:772-1745625600-1745711999@ghpec.org
SUMMARY:Star City SWVHJA
DESCRIPTION:More information coming soon
URL:https://ghpec.org/event/star-city-swvhja/
LOCATION:Green Hill Park Equestrian Center
END:VEVENT
BEGIN:VEVENT
DTSTART;VALUE=DATE:20250426
DTEND;VALUE=DATE:20250427
DTSTAMP:20260420T081612
CREATED:20241126T132029Z
LAST-MODIFIED:20250121T140454Z
UID:637-1745625600-1745711999@ghpec.org
SUMMARY:Equine Trail Sport
DESCRIPTION:About The Venue\nLocated in the beautiful Blue Ridge Mountains of Southwest Virginia\, Green Hill Park Equestrian Center is a 30 acre public horse park. The park is self supporting with donations from various contributors and several local horse clubs who donate partial profits from shows held at the park. We are fortunate to have three arenas\, 20 stalls\, and water provided at the facility. A valid Negative Coggins is required for participation. \nEvent Details\nObstacle Trail (OT) – a relaxing short trail ride with judged obstacles along the trail and possibly in camp. All riding disciplines are welcome. \nThe Terrain\nArena footing and grassy hills\, rocks in creek crossings. \nMeals\nCoffee will be provided in the morning. Concessions and lunch will be provided by Blue Ridge Equine Society\, a non-profit organization\, who donates all funds to various causes during the year. For example they help purchase feed for the Roanoke Valley Horse Rescue. \nAwards\nBeautiful ribbons – 1st-6th place Novice\, Intermediate\, and Advanced! 1st-3rd place Junior (age 13-17)\, 1st-3rd place Youngin’ (age 7-12)\, and 1st place Newcomer. \nLifetime Awards (Equine & Rider) – Sign up 2 weeks in advance to get your qualifying awards! \nEquine Awards – Your equine will earn a beautiful kilt pin adding copper\, bronze\, silver\, and golden carrot charms as they progress through the levels. Equine points accumulate no matter who rides the equine. \nRider Awards – You will earn a beautiful kilt pin adding copper\, bronze\, silver\, and golden star charms as you progress through the levels. Rider Points accumulate no matter which equine is ridden. \nAdditional Fees\nPayment for ALL Amenities reserved at the time of online registration are due ON SITE and are NOT collected at the time of online registration. \nRegistering online will give you the best (early bird) pricing! There is a $10 increase per entry for onsite registration. \nThere is a $10 ranch fee due when registering day of the event.
URL:https://ghpec.org/event/equine-trail-sport/
LOCATION:Green Hill Park Equestrian Center
ATTACH;FMTTYPE=image/png:https://ghpec.org/wp-content/uploads/2024/11/TrailSports.png
ORGANIZER;CN="Melissa":MAILTO:EmeraldDFarm@gmail.com
END:VEVENT
BEGIN:VEVENT
DTSTART;VALUE=DATE:20250425
DTEND;VALUE=DATE:20250426
DTSTAMP:20260420T081612
CREATED:20251202T185256Z
LAST-MODIFIED:20251202T185256Z
UID:769-1745539200-1745625599@ghpec.org
SUMMARY:Star City Ranch Riding
DESCRIPTION:More information coming soon
URL:https://ghpec.org/event/star-city-ranch-riding/
LOCATION:Green Hill Park Equestrian Center
END:VEVENT
BEGIN:VEVENT
DTSTART;VALUE=DATE:20250419
DTEND;VALUE=DATE:20250420
DTSTAMP:20260420T081612
CREATED:20250101T193807Z
LAST-MODIFIED:20250101T193807Z
UID:682-1745020800-1745107199@ghpec.org
SUMMARY:BREA Kim Smith Jumping Clinic
DESCRIPTION:Details coming soon!
URL:https://ghpec.org/event/brea-kim-smith-jumping-clinic/
LOCATION:Green Hill Park Equestrian Center
ATTACH;FMTTYPE=image/png:https://ghpec.org/wp-content/uploads/2024/10/Blue-Ridge-Eventing-Association_logo_clear-web.png
ORGANIZER;CN="Blue Ridge Eventing Association":MAILTO:BREABoard@gmail.com
END:VEVENT
BEGIN:VEVENT
DTSTART;VALUE=DATE:20250406
DTEND;VALUE=DATE:20250407
DTSTAMP:20260420T081612
CREATED:20241126T131644Z
LAST-MODIFIED:20250315T100538Z
UID:633-1743897600-1743983999@ghpec.org
SUMMARY:RVPC Dressage\, Combined Test and Working Equitation
DESCRIPTION:2025 Fun Frolic Series Prize List
URL:https://ghpec.org/event/rvpc-dressage-combined-test-and-working-equitation/
LOCATION:Green Hill Park Equestrian Center
ATTACH;FMTTYPE=image/jpeg:https://ghpec.org/wp-content/uploads/2024/11/ponyclub.jpg
END:VEVENT
BEGIN:VEVENT
DTSTART;TZID=UTC:20250329T100000
DTEND;TZID=UTC:20250329T130000
DTSTAMP:20260420T081612
CREATED:20250116T101650Z
LAST-MODIFIED:20250116T101650Z
UID:688-1743242400-1743253200@ghpec.org
SUMMARY:Obstacle Play Day
DESCRIPTION:Obstacle Play Day \nGreen Hill Park Equestrian Center\nSaturday\, March 29\, 2025\, 10:00am to 1:00pm \nGHPEC members free admittance\nNon-members $15.00 \n  \na copy of your coggins if you plan on participating and if you can help take\nobstacles down at 1:00. If you have a favorite obstacle you would like to share\,\nplease bring it.\nCancellations due to inclement weather will be made by 6:00pm on Friday\, \nMarch 28. Please check FB for updates or cancellations.
URL:https://ghpec.org/event/obstacle-play-day-2/
LOCATION:Green Hill Park Equestrian Center
ATTACH;FMTTYPE=image/jpeg:https://ghpec.org/wp-content/uploads/2025/01/obstacle.jpg
ORGANIZER;CN="Tammy":MAILTO:tamlanichols@verizon.net
END:VEVENT
BEGIN:VEVENT
DTSTART;VALUE=DATE:20250329
DTEND;VALUE=DATE:20250330
DTSTAMP:20260420T081612
CREATED:20251204T101319Z
LAST-MODIFIED:20251204T101319Z
UID:780-1743206400-1743292799@ghpec.org
SUMMARY:Star City SWVHJA
DESCRIPTION:More information coming soon.
URL:https://ghpec.org/event/star-city-swvhja-3/
LOCATION:Green Hill Park Equestrian Center
END:VEVENT
BEGIN:VEVENT
DTSTART;VALUE=DATE:20250328
DTEND;VALUE=DATE:20250329
DTSTAMP:20260420T081612
CREATED:20251204T100817Z
LAST-MODIFIED:20251204T100817Z
UID:778-1743120000-1743206399@ghpec.org
SUMMARY:Star City Western
DESCRIPTION:More information coming soon.
URL:https://ghpec.org/event/star-city-western/
LOCATION:Green Hill Park Equestrian Center
END:VEVENT
BEGIN:VEVENT
DTSTART;VALUE=DATE:20241117
DTEND;VALUE=DATE:20241118
DTSTAMP:20260420T081612
CREATED:20241005T093404Z
LAST-MODIFIED:20241005T102720Z
UID:539-1731801600-1731887999@ghpec.org
SUMMARY:Equestrian Center Closed
DESCRIPTION:The Green Hill Park Equestrian Center will be closed today for maintenance.
URL:https://ghpec.org/event/equestrian-center-closed/
ATTACH;FMTTYPE=image/webp:https://ghpec.org/wp-content/uploads/2024/10/horse-tractor-2.webp
END:VEVENT
BEGIN:VEVENT
DTSTART;TZID=UTC:20241109T100000
DTEND;TZID=UTC:20241109T130000
DTSTAMP:20260420T081612
CREATED:20241006T111439Z
LAST-MODIFIED:20241006T174655Z
UID:618-1731146400-1731157200@ghpec.org
SUMMARY:Obstacle Play Day
DESCRIPTION:Download Flyer Here \nGHPEC members free admittance\nNon-members $15.00\nAll proceeds go to the horse park \nCurrent coggins required \nTaking down obstacles at the end of the day is greatly appreciated.\nf you have a favorite obstacle you would like to share\, please bring it.
URL:https://ghpec.org/event/obstacle-play-day/
LOCATION:Green Hill Park Equestrian Center
ATTACH;FMTTYPE=image/jpeg:https://ghpec.org/wp-content/uploads/2024/10/playday.jpg
ORGANIZER;CN="Melissa":MAILTO:EmeraldDFarm@gmail.com
END:VEVENT
BEGIN:VEVENT
DTSTART;VALUE=DATE:20241027
DTEND;VALUE=DATE:20241028
DTSTAMP:20260420T081612
CREATED:20241005T095011Z
LAST-MODIFIED:20241006T112404Z
UID:556-1729987200-1730073599@ghpec.org
SUMMARY:GHPEC Halloween Fun Show (BRHF)
DESCRIPTION:Download Class List Here \nDownload Registration Form Here \nStart time: 10:00 a.m.         Entry Fee: $10.00/class         Judge: Nancy Troutman \nGate open at 8:00 a.m.                Show Managers:  GHPEC Advisory Committee \n\nBRHF Model Horse/Pony\nBRHF Coached Showmanship\nBRHF Showmanship\nBRHF Costume (Leadline)\nBRHF Costume (Youth)  Trophy & $25.00 prize money\nBRHF Costume (Adult)  Trophy & $25.00 prize money\nBRHF Ride-a-Buck\nStick Horse (bring your own)\nOpen Goblins As You Please (Proceeds to Roanoke Valley Horse Rescue)\nBRHF “Eyeballs” (Egg & Spoon)\nBRHF Coached Pumpkin Race (Potato Race)\nBRHF Pumpkin Race (Potato Race)\nBRHF Coached Goblins As You Please (may cross enter to classes 1\, 2\, 3 or  4\, 21 only)\nBRHF Ranch horse – walk/jog\nBRHF Keyhole Race\nBRHF Western Goblins As You Please\nCreepy Race (jog/trot only and be last to cross the finish line)\nGrave Robber Team Race (Baton Race)\nYouth Goblins As You Please\nSpooky Ribbon Class (3 ft ribbon held between a team of 2 riders)\n4-H & Pony Club Members Goblins As You Please\nAdult Goblins As You Please\nBRHF Headless Hunter Goblins – W/T\nBRHF English Goblins As You Please\nPairs Go as you Please Class (no cantering)\nBRHF “Black Cat”alog Race\nBRHF Flag Race\nBRHF Cloverleaf Barrel Race\nBRHF Pole Bending\n\nThings you need to know: \n\n*Costumes are encouraged in all classes but must not block vision of horse or rider or considered disruptive (flowing capes\, etc) to flat/pleasure classes.*\nHelmet required in youth games. Protective/safety equipment will not be penalized in any class.\nCall 540-387-6256 by 9:00 a.m. on show date if the weather is questionable. A message will be on the answering machine if the show is cancelled.  Cancelled show will not be rescheduled.\nDogs must be on a leash. This is a Roanoke County Parks & Rec regulation and will be enforced.\nGreen Hill Park Equestrian Center and/or Blue Ridge Horse Force\, Roanoke Valley Pony Club\, show management\, any members\, families\, organizers\, volunteers\, property owners\, employees assume no responsibility in case of loss\, injury or damage to persons\, horses or personal property for any cause and admittance and entries are accepted only on this basis.\nDriving directions: I-81 to exit 137\, exit right ½ mile onto Rt. 619 (Wildwood Rd).  Right at traffic light onto Rt. 11 South (460W & West Main) and go ¾ mile.  Turn left onto Rt. 639 (Diuguids Lane) at traffic light.  ALL TRAILERS: Entrance 1 mile on right.  ALL OTHER TRAFFIC: Entrance 1 ¼ miles on right.\nYou do not have to be a BRHF member to compete in any class.\nVa Dept of Agriculture requires all horses on show grounds must have a current (within 12 months) negative coggins.\n\n~~~~~~~~~~~~~~~~~~~~~~~~~~~~~~~~~~~~~~~~~~~~~~~~~~~~~~~~~~~~~~~~~~ \n*REMINDER TO BLUE RIDGE HORSE FORCE MEMBERS* \nTo qualify for year end awards you must complete your volunteer hours by 12/31/24 \nCall Tammy Nichols 540-871-9891 to volunteer at this show. \n ~~~~~~~~~~~~~~~~~~~~~~~~~~~~~~~~~~~~~~~~~~~~~~~~~~~~~~~~~~~~~~~~~~ \nwww.ghpec.org \nwww.brhf.com
URL:https://ghpec.org/event/ghpec-halloween-fun-show-brhf/
LOCATION:Green Hill Park Equestrian Center
ATTACH;FMTTYPE=image/jpeg:https://ghpec.org/wp-content/uploads/2024/10/horsehalloween.jpg
END:VEVENT
BEGIN:VEVENT
DTSTART;VALUE=DATE:20241020
DTEND;VALUE=DATE:20241021
DTSTAMP:20260420T081612
CREATED:20241005T094125Z
LAST-MODIFIED:20241006T112719Z
UID:542-1729382400-1729468799@ghpec.org
SUMMARY:BREA/SWVADA Fall Horse Trial\, CT and Dressage
DESCRIPTION:Download Prize List Here \n\nDivisions: Horse Trials\, Combined Tests\, Dressage\nHT Levels: Tadpole\, Cross Rails\, Green\, Advanced Green\, Beginner Novice\, Novice\nCT Levels: Tadpole\, Cross Rails\, Green\, Advanced Green\, Beginner Novice\, Novice\, Novice Plus\, Training\nDressage Tests: Intro Test C\, Beginner Novice Test A\, Novice Test A\, Training Test A\, Modified Test A\, Preliminary Test A\, 2023 USDF Intro to Second Level\, 2022 USEF Eventing Tests to Preliminary\, 2022 Western Dressage\, Western Dressage\, Working Equitation Level 1-7\, 2022 USDF Introductory
URL:https://ghpec.org/event/brea-swvada-fall-horse-trial-ct-and-dressage/
LOCATION:Green Hill Park Equestrian Center
ATTACH;FMTTYPE=image/png:https://ghpec.org/wp-content/uploads/2024/10/Blue-Ridge-Eventing-Association_logo_clear-web.png
ORGANIZER;CN="Blue Ridge Eventing Association":MAILTO:BREABoard@gmail.com
END:VEVENT
BEGIN:VEVENT
DTSTART;TZID=UTC:20240128T110000
DTEND;TZID=UTC:20240128T140000
DTSTAMP:20260420T081612
CREATED:20241005T095403Z
LAST-MODIFIED:20241005T095403Z
UID:569-1706439600-1706450400@ghpec.org
SUMMARY:Working Equestrian Obstacle Play Day
DESCRIPTION:FREE to Green Hill Park Equestrian Members! \n$15 for non-member \nPlease pick one helpful task.\nI will come early (10:00) and help set up obstacles.\nI will stay late (2:30pm) and help take down obstacles.\nEmail Melissa at EmeraldDFarm@gmail.com if you plan on participating and your\npreference of choice helping with the clinic.\nAny cancellations due to inclement weather will be made by 6:00pm on Saturday\,\nJanuary 27\, and you should check FB for updates or cancellations.
URL:https://ghpec.org/event/working-equestrian-obstacle-play-day/
ATTACH;FMTTYPE=image/png:https://ghpec.org/wp-content/uploads/2024/10/play-day.png
END:VEVENT
END:VCALENDAR